BEGIN:VCALENDAR
VERSION:2.0
PRODID:-//The Fire District of Rush, NY - ECPv6.15.20//NONSGML v1.0//EN
CALSCALE:GREGORIAN
METHOD:PUBLISH
X-ORIGINAL-URL:https://rushfiredistrict.org
X-WR-CALDESC:Events for The Fire District of Rush, NY
REFRESH-INTERVAL;VALUE=DURATION:PT1H
X-Robots-Tag:noindex
X-PUBLISHED-TTL:PT1H
BEGIN:VTIMEZONE
TZID:America/New_York
BEGIN:DAYLIGHT
TZOFFSETFROM:-0500
TZOFFSETTO:-0400
TZNAME:EDT
DTSTART:20180311T070000
END:DAYLIGHT
BEGIN:STANDARD
TZOFFSETFROM:-0400
TZOFFSETTO:-0500
TZNAME:EST
DTSTART:20181104T060000
END:STANDARD
BEGIN:DAYLIGHT
TZOFFSETFROM:-0500
TZOFFSETTO:-0400
TZNAME:EDT
DTSTART:20190310T070000
END:DAYLIGHT
BEGIN:STANDARD
TZOFFSETFROM:-0400
TZOFFSETTO:-0500
TZNAME:EST
DTSTART:20191103T060000
END:STANDARD
BEGIN:DAYLIGHT
TZOFFSETFROM:-0500
TZOFFSETTO:-0400
TZNAME:EDT
DTSTART:20200308T070000
END:DAYLIGHT
BEGIN:STANDARD
TZOFFSETFROM:-0400
TZOFFSETTO:-0500
TZNAME:EST
DTSTART:20201101T060000
END:STANDARD
BEGIN:DAYLIGHT
TZOFFSETFROM:-0500
TZOFFSETTO:-0400
TZNAME:EDT
DTSTART:20210314T070000
END:DAYLIGHT
BEGIN:STANDARD
TZOFFSETFROM:-0400
TZOFFSETTO:-0500
TZNAME:EST
DTSTART:20211107T060000
END:STANDARD
BEGIN:DAYLIGHT
TZOFFSETFROM:-0500
TZOFFSETTO:-0400
TZNAME:EDT
DTSTART:20220313T070000
END:DAYLIGHT
BEGIN:STANDARD
TZOFFSETFROM:-0400
TZOFFSETTO:-0500
TZNAME:EST
DTSTART:20221106T060000
END:STANDARD
BEGIN:DAYLIGHT
TZOFFSETFROM:-0500
TZOFFSETTO:-0400
TZNAME:EDT
DTSTART:20230312T070000
END:DAYLIGHT
BEGIN:STANDARD
TZOFFSETFROM:-0400
TZOFFSETTO:-0500
TZNAME:EST
DTSTART:20231105T060000
END:STANDARD
BEGIN:DAYLIGHT
TZOFFSETFROM:-0500
TZOFFSETTO:-0400
TZNAME:EDT
DTSTART:20240310T070000
END:DAYLIGHT
BEGIN:STANDARD
TZOFFSETFROM:-0400
TZOFFSETTO:-0500
TZNAME:EST
DTSTART:20241103T060000
END:STANDARD
BEGIN:DAYLIGHT
TZOFFSETFROM:-0500
TZOFFSETTO:-0400
TZNAME:EDT
DTSTART:20250309T070000
END:DAYLIGHT
BEGIN:STANDARD
TZOFFSETFROM:-0400
TZOFFSETTO:-0500
TZNAME:EST
DTSTART:20251102T060000
END:STANDARD
END:VTIMEZONE
BEGIN:VEVENT
DTSTART;TZID=America/New_York:20240521T190000
DTEND;TZID=America/New_York:20240521T203000
DTSTAMP:20260419T120316
CREATED:20240111T131626Z
LAST-MODIFIED:20240111T131626Z
UID:2160-1716318000-1716323400@rushfiredistrict.org
SUMMARY:Commission Meeting
DESCRIPTION:Commissioner Meeting 7pm 1971 Rush Mendon Rd
URL:https://rushfiredistrict.org/calendar/commission-meeting-2/
END:VEVENT
BEGIN:VEVENT
DTSTART;TZID=America/New_York:20240416T190000
DTEND;TZID=America/New_York:20240416T203000
DTSTAMP:20260419T120316
CREATED:20240111T132340Z
LAST-MODIFIED:20240111T132340Z
UID:2170-1713294000-1713299400@rushfiredistrict.org
SUMMARY:Commissioner Meeting
DESCRIPTION:Commissioner Meeting 7pm 1971 Rush Mendon Rd
URL:https://rushfiredistrict.org/calendar/commissioner-meeting-6/
END:VEVENT
BEGIN:VEVENT
DTSTART;TZID=America/New_York:20240319T190000
DTEND;TZID=America/New_York:20240319T203000
DTSTAMP:20260419T120316
CREATED:20240111T131409Z
LAST-MODIFIED:20240111T131409Z
UID:2156-1710874800-1710880200@rushfiredistrict.org
SUMMARY:Commissioner Meeting
DESCRIPTION:Commissioner Meeting 7pm 1971 Rush Mendon Rd
URL:https://rushfiredistrict.org/calendar/commissioner-meeting-5/
END:VEVENT
BEGIN:VEVENT
DTSTART;TZID=America/New_York:20240220T190000
DTEND;TZID=America/New_York:20240220T203000
DTSTAMP:20260419T120316
CREATED:20240111T131305Z
LAST-MODIFIED:20240111T131305Z
UID:2154-1708455600-1708461000@rushfiredistrict.org
SUMMARY:Commissioner Meeting
DESCRIPTION:Commissioner Meeting 7pm 1971 Rush Mendon Rd
URL:https://rushfiredistrict.org/calendar/commissioner-meeting-4/
END:VEVENT
BEGIN:VEVENT
DTSTART;TZID=America/New_York:20240116T190000
DTEND;TZID=America/New_York:20240116T203000
DTSTAMP:20260419T120316
CREATED:20240111T130922Z
LAST-MODIFIED:20240111T130922Z
UID:2152-1705431600-1705437000@rushfiredistrict.org
SUMMARY:Commissioner Meeting
DESCRIPTION:Commissioner Meeting 7pm 1971 Rush Mendon Rd
URL:https://rushfiredistrict.org/calendar/commissioner-meeting-3/
END:VEVENT
BEGIN:VEVENT
DTSTART;TZID=America/New_York:20221109T140000
DTEND;TZID=America/New_York:20221109T190000
DTSTAMP:20260419T120316
CREATED:20220926T171239Z
LAST-MODIFIED:20220926T171239Z
UID:2006-1668002400-1668020400@rushfiredistrict.org
SUMMARY:RED CROSS BLOOD DRIVE
DESCRIPTION:Rush Fire Department is hosting a Red Cross Blood Drive on November 9\, 2022\, from 2 – 7 pm at 1971 Rush Mendon Road
URL:https://rushfiredistrict.org/calendar/red-cross-blood-drive-3/
END:VEVENT
BEGIN:VEVENT
DTSTART;TZID=America/New_York:20220706T140000
DTEND;TZID=America/New_York:20220706T190000
DTSTAMP:20260419T120316
CREATED:20220606T153132Z
LAST-MODIFIED:20220606T153132Z
UID:1950-1657116000-1657134000@rushfiredistrict.org
SUMMARY:Red Cross Blood Drive
DESCRIPTION:Please consider donating
URL:https://rushfiredistrict.org/calendar/red-cross-blood-drive-2/
LOCATION:Rush Fire District\, 1971 Rush Mendon Rd\, Rush\, NY\, 14543
END:VEVENT
BEGIN:VEVENT
DTSTART;TZID=America/New_York:20220315T190000
DTEND;TZID=America/New_York:20220315T203000
DTSTAMP:20260419T120316
CREATED:20220116T185725Z
LAST-MODIFIED:20220116T191156Z
UID:1869-1647370800-1647376200@rushfiredistrict.org
SUMMARY:The Board of Fire Commissioners' Monthly Meeting
DESCRIPTION:The Board of Fire Commissioners’ Monthly Meeting will be held on Tuesday\, March15\, 2022. \nPlace: 1971 Rush Mendon Road\, Rush\, NY \nTime: 7 pm. \nThe community is welcome to attend. \n  \n 
URL:https://rushfiredistrict.org/calendar/the-board-of-fire-commissioners-monthly-meeting-2/
LOCATION:Rush Fire District\, 1971 Rush Mendon Rd\, Rush\, NY\, 14543
END:VEVENT
BEGIN:VEVENT
DTSTART;TZID=America/New_York:20220301T190000
DTEND;TZID=America/New_York:20220301T203000
DTSTAMP:20260419T120316
CREATED:20220223T160828Z
LAST-MODIFIED:20220223T160828Z
UID:1891-1646161200-1646166600@rushfiredistrict.org
SUMMARY:Commission Workshop
DESCRIPTION:Commission Workshop : Job description for new position created
URL:https://rushfiredistrict.org/calendar/commission-workshop/
END:VEVENT
BEGIN:VEVENT
DTSTART;TZID=America/New_York:20220223T180000
DTEND;TZID=America/New_York:20220223T190000
DTSTAMP:20260419T120316
CREATED:20220223T163029Z
LAST-MODIFIED:20220223T163050Z
UID:1893-1645639200-1645642800@rushfiredistrict.org
SUMMARY:Public Hearing
DESCRIPTION:Public Hearing \nPartial Real Property Tax Exemption\nExemption for certain volunteer firefighters and volunteer ambulance personnel. The new law is\ncodified in section 466-k of the Real Property Tax Law.
URL:https://rushfiredistrict.org/calendar/public-hearing/
END:VEVENT
BEGIN:VEVENT
DTSTART;TZID=America/New_York:20220215T190000
DTEND;TZID=America/New_York:20220215T203000
DTSTAMP:20260419T120316
CREATED:20220116T185543Z
LAST-MODIFIED:20220116T191017Z
UID:1867-1644951600-1644957000@rushfiredistrict.org
SUMMARY:The Board of Fire Commissioners' Monthly Meeting
DESCRIPTION:The Board of Fire Commissioners’ Monthly Meeting will be held on Tuesday\, February 15\, 2022. \nPlace: 1971 Rush Mendon Road\, Rush\, NY \nTime: 7 pm. \nThe community is welcome to attend. \n 
URL:https://rushfiredistrict.org/calendar/the-board-of-fire-commissioners-monthly-meeting/
LOCATION:Rush Fire District\, 1971 Rush Mendon Rd\, Rush\, NY\, 14543
END:VEVENT
BEGIN:VEVENT
DTSTART;TZID=America/New_York:20220118T190000
DTEND;TZID=America/New_York:20220118T203000
DTSTAMP:20260419T120316
CREATED:20220116T185419Z
LAST-MODIFIED:20220116T190845Z
UID:1864-1642532400-1642537800@rushfiredistrict.org
SUMMARY:Board of Fire Commissioners' Monthly Meeting
DESCRIPTION:The Board of Fire Commissioners’ Monthly Meeting will be held on Tuesday\, January 18\, 2022. \nPlace: 1971 Rush Mendon Road\, Rush\, NY \nTime: 7 pm. \nThe community is welcome to attend.
URL:https://rushfiredistrict.org/calendar/board-of-fire-commissioners-monthly-meeting/
LOCATION:Rush Fire District\, 1971 Rush Mendon Rd\, Rush\, NY\, 14543
END:VEVENT
BEGIN:VEVENT
DTSTART;TZID=America/New_York:20211221T190000
DTEND;TZID=America/New_York:20211221T203000
DTSTAMP:20260419T120316
CREATED:20210724T235341Z
LAST-MODIFIED:20210724T235341Z
UID:1793-1640113200-1640118600@rushfiredistrict.org
SUMMARY:December Commissioner Meeting
DESCRIPTION:1971 Rush Mendon Rd\, Rush NY 14543  7 pm
URL:https://rushfiredistrict.org/calendar/december-commissioner-meeting/
LOCATION:Rush Fire District\, 1971 Rush Mendon Rd\, Rush\, NY\, 14543
END:VEVENT
BEGIN:VEVENT
DTSTART;TZID=America/New_York:20211116T190000
DTEND;TZID=America/New_York:20211116T203000
DTSTAMP:20260419T120316
CREATED:20210724T235246Z
LAST-MODIFIED:20210724T235246Z
UID:1791-1637089200-1637094600@rushfiredistrict.org
SUMMARY:November Commissioner Meeting
DESCRIPTION:1971 Rush Mendon Rd\, Rush NY 14543  7 pm
URL:https://rushfiredistrict.org/calendar/november-commissioner-meeting/
LOCATION:Rush Fire District\, 1971 Rush Mendon Rd\, Rush\, NY\, 14543
END:VEVENT
BEGIN:VEVENT
DTSTART;TZID=America/New_York:20211110T140000
DTEND;TZID=America/New_York:20211110T180000
DTSTAMP:20260419T120316
CREATED:20210724T235531Z
LAST-MODIFIED:20210724T235531Z
UID:1795-1636552800-1636567200@rushfiredistrict.org
SUMMARY:Red Cross Blood Drive
DESCRIPTION:Rush Fire District  1971 Rush Mendon Rd\, Rush NY 14543
URL:https://rushfiredistrict.org/calendar/red-cross-blood-drive/
LOCATION:Rush Fire District\, 1971 Rush Mendon Rd\, Rush\, NY\, 14543
END:VEVENT
BEGIN:VEVENT
DTSTART;TZID=America/New_York:20211102T160000
DTEND;TZID=America/New_York:20211102T190000
DTSTAMP:20260419T120316
CREATED:20210724T235805Z
LAST-MODIFIED:20210724T235805Z
UID:1797-1635868800-1635879600@rushfiredistrict.org
SUMMARY:Election Day Drive Thru Dinner
DESCRIPTION:Rush Fire Department Ladies Auxiliary is hosting a drive through dinner. \n1971 Rush Mendon Road\, Rush NY 14543 \nPlease support your local Fire Department
URL:https://rushfiredistrict.org/calendar/election-day-drive-thru-dinner/
END:VEVENT
BEGIN:VEVENT
DTSTART;TZID=America/New_York:20211019T190000
DTEND;TZID=America/New_York:20211019T210000
DTSTAMP:20260419T120316
CREATED:20211003T174215Z
LAST-MODIFIED:20211003T175135Z
UID:1822-1634670000-1634677200@rushfiredistrict.org
SUMMARY:2022 Fire District Budget
DESCRIPTION:The 2022 Rush Fire District hearing will occur on October 19\, 2021 at Sta 1\, 1971 Rush Mendon Road\, Rush\, NY 14543. The meeting will begin at 7 pm and is open to the public.
URL:https://rushfiredistrict.org/calendar/2022-fire-district-budget/
LOCATION:Rush Fire District\, 1971 Rush Mendon Rd\, Rush\, NY\, 14543
END:VEVENT
BEGIN:VEVENT
DTSTART;TZID=America/New_York:20211019T190000
DTEND;TZID=America/New_York:20211019T203000
DTSTAMP:20260419T120316
CREATED:20210724T235105Z
LAST-MODIFIED:20210724T235105Z
UID:1789-1634670000-1634675400@rushfiredistrict.org
SUMMARY:October Commissioner Meeting
DESCRIPTION:1971 Rush Mendon Rd\, Rush NY 14543  7 pm
URL:https://rushfiredistrict.org/calendar/october-commissioner-meeting/
LOCATION:Rush Fire District\, 1971 Rush Mendon Rd\, Rush\, NY\, 14543
END:VEVENT
BEGIN:VEVENT
DTSTART;TZID=America/New_York:20210921T190000
DTEND;TZID=America/New_York:20210921T203000
DTSTAMP:20260419T120316
CREATED:20210724T234953Z
LAST-MODIFIED:20210724T234953Z
UID:1787-1632250800-1632256200@rushfiredistrict.org
SUMMARY:September Commissioner Meeting
DESCRIPTION:1971 Rush Mendon Rd\, Rush NY 14543  7 pm
URL:https://rushfiredistrict.org/calendar/september-commissioner-meeting/
LOCATION:Rush Fire District\, 1971 Rush Mendon Rd\, Rush\, NY\, 14543
END:VEVENT
BEGIN:VEVENT
DTSTART;TZID=America/New_York:20210817T190000
DTEND;TZID=America/New_York:20210817T203000
DTSTAMP:20260419T120316
CREATED:20210724T225249Z
LAST-MODIFIED:20210725T000347Z
UID:1784-1629226800-1629232200@rushfiredistrict.org
SUMMARY:August Commissioner Meeting
DESCRIPTION:1971 Rush Mendon Rd\, Rush NY 14543  7pm
URL:https://rushfiredistrict.org/calendar/august-commissioner-meeting/
LOCATION:Rush Fire District\, 1971 Rush Mendon Rd\, Rush\, NY\, 14543
END:VEVENT
BEGIN:VEVENT
DTSTART;TZID=America/New_York:20210720T190000
DTEND;TZID=America/New_York:20210720T210000
DTSTAMP:20260419T120316
CREATED:20210714T171016Z
LAST-MODIFIED:20210714T171016Z
UID:1777-1626807600-1626814800@rushfiredistrict.org
SUMMARY:July Commissioner Meeting
DESCRIPTION:July Commissioner Meeting  1971 Rush Mendon Rd 7:00pm
URL:https://rushfiredistrict.org/calendar/july-commissioner-meeting/
END:VEVENT
BEGIN:VEVENT
DTSTART;TZID=America/New_York:20201117T190000
DTEND;TZID=America/New_York:20201117T203000
DTSTAMP:20260419T120316
CREATED:20200922T132715Z
LAST-MODIFIED:20200922T132715Z
UID:1650-1605639600-1605645000@rushfiredistrict.org
SUMMARY:Commissioner Meeting
DESCRIPTION:
URL:https://rushfiredistrict.org/calendar/commissioner-meeting-2/
END:VEVENT
BEGIN:VEVENT
DTSTART;TZID=America/New_York:20201020T190000
DTEND;TZID=America/New_York:20201020T203000
DTSTAMP:20260419T120316
CREATED:20200922T132124Z
LAST-MODIFIED:20200922T132124Z
UID:1645-1603220400-1603225800@rushfiredistrict.org
SUMMARY:Commissioner Meeting
DESCRIPTION:
URL:https://rushfiredistrict.org/calendar/commissioner-meeting/
END:VEVENT
BEGIN:VEVENT
DTSTART;TZID=America/New_York:20201020T190000
DTEND;TZID=America/New_York:20201020T193000
DTSTAMP:20260419T120316
CREATED:20200922T132317Z
LAST-MODIFIED:20200922T132317Z
UID:1647-1603220400-1603222200@rushfiredistrict.org
SUMMARY:Budget Hearing
DESCRIPTION:
URL:https://rushfiredistrict.org/calendar/budget-hearing/
END:VEVENT
BEGIN:VEVENT
DTSTART;TZID=America/New_York:20200624T190000
DTEND;TZID=America/New_York:20200624T200000
DTSTAMP:20260419T120316
CREATED:20200619T124000Z
LAST-MODIFIED:20200619T124000Z
UID:1621-1593025200-1593028800@rushfiredistrict.org
SUMMARY:Commissioner Workshop
DESCRIPTION:Commissioner Workshop:
URL:https://rushfiredistrict.org/calendar/commissioner-workshop/
END:VEVENT
BEGIN:VEVENT
DTSTART;TZID=America/New_York:20200519T190000
DTEND;TZID=America/New_York:20200519T210000
DTSTAMP:20260419T120316
CREATED:20200518T151002Z
LAST-MODIFIED:20200518T151247Z
UID:1611-1589914800-1589922000@rushfiredistrict.org
SUMMARY:May Commissioner Meeting
DESCRIPTION:Public Access Copy and Paste \nhttps://stream.meet.google.com/stream/7ee7e001-f5e9-4ccf-806c-fa4eadba7509
URL:https://rushfiredistrict.org/calendar/may-commissioner-meeting/
END:VEVENT
BEGIN:VEVENT
DTSTART;TZID=America/New_York:20200518T183000
DTEND;TZID=America/New_York:20200518T190000
DTSTAMP:20260419T120316
CREATED:20200518T150656Z
LAST-MODIFIED:20200518T171427Z
UID:1608-1589826600-1589828400@rushfiredistrict.org
SUMMARY:Practice Google Meet
DESCRIPTION:https://stream.meet.google.com/stream/48a78ed0-31f7-4d4a-a8da-3d760c4acdbc
URL:https://rushfiredistrict.org/calendar/practice-google-meet/
END:VEVENT
BEGIN:VEVENT
DTSTART;TZID=America/New_York:20200421T190000
DTEND;TZID=America/New_York:20200421T200000
DTSTAMP:20260419T120316
CREATED:20200408T151041Z
LAST-MODIFIED:20200416T144511Z
UID:1592-1587495600-1587499200@rushfiredistrict.org
SUMMARY:April Commissioner Meeting
DESCRIPTION:April’s Commissioner Meeting will be a virtual meeting accessed through Google Meet \nhttps://stream.meet.google.com/stream/08eb7d4d-51ac-4493-962c-af5b648b6f5d
URL:https://rushfiredistrict.org/calendar/april-commissioner-meeting/
END:VEVENT
BEGIN:VEVENT
DTSTART;TZID=America/New_York:20200102T170000
DTEND;TZID=America/New_York:20200102T180000
DTSTAMP:20260419T120316
CREATED:20200102T013531Z
LAST-MODIFIED:20200102T013531Z
UID:1564-1577984400-1577988000@rushfiredistrict.org
SUMMARY:Fire Commission Organizational Meeting
DESCRIPTION:Organizational Meeting 5:00 p.m. Sta 1 1971 Rush Mendon Rd
URL:https://rushfiredistrict.org/calendar/fire-commission-organizational-meeting/
END:VEVENT
BEGIN:VEVENT
DTSTART;TZID=America/New_York:20191227T170000
DTEND;TZID=America/New_York:20191227T173000
DTSTAMP:20260419T120316
CREATED:20191226T210530Z
LAST-MODIFIED:20191226T210530Z
UID:1546-1577466000-1577467800@rushfiredistrict.org
SUMMARY:Special Commssioner Meeting
DESCRIPTION:Moving Fund Balance
URL:https://rushfiredistrict.org/calendar/special-commssioner-meeting/
END:VEVENT
END:VCALENDAR